BEGIN:VCALENDAR
VERSION:2.0
PRODID:-//OS//seminar.event//DE
URL:https://www.stbverband-sachsen.de/seminar/id/3170
NAME:Latente Steuern – Endlich verstehen
X-WR-CALNAME:Latente Steuern – Endlich verstehen
TIMEZONE-ID:Europe/Berlin
X-WR-TIMEZONE:Europe/Berlin
BEGIN:VEVENT
UID:4840@os-seminare.de
SEQUENCE:0
DTSTAMP:20260422T023710Z
DTSTART:20240910T120000Z
DTEND:20240910T140000Z
SUMMARY:Latente Steuern – Endlich verstehen
LOCATION:Live-Online-Seminar
DESCRIPTION:https://www.stbverband-sachsen.de/seminar/id/3170
URL;VALUE=URI:https://www.stbverband-sachsen.de/seminar/id/3170
END:VEVENT
END:VCALENDAR