BEGIN:VCALENDAR
VERSION:2.0
PRODID:-//OS//seminar.event//DE
URL:https://www.stbverband-sachsen.de/seminar/id/1737
NAME:Steuerliche Unternehmensbewertung nach §§ 199 ff.
X-WR-CALNAME:Steuerliche Unternehmensbewertung nach §§ 199 ff.
TIMEZONE-ID:Europe/Berlin
X-WR-TIMEZONE:Europe/Berlin
BEGIN:VEVENT
UID:2812@os-seminare.de
SEQUENCE:0
DTSTAMP:20260420T001209Z
DTSTART:20230125T080000Z
DTEND:20230125T113000Z
SUMMARY:Steuerliche Unternehmensbewertung nach §§ 199 ff.
LOCATION:Live-Online-Seminar
DESCRIPTION:https://www.stbverband-sachsen.de/seminar/id/1737
URL;VALUE=URI:https://www.stbverband-sachsen.de/seminar/id/1737
END:VEVENT
END:VCALENDAR